BEGIN:VCALENDAR
VERSION:2.0
PRODID:-//Ziber2013/
CALSCALE:GREGORIAN
BEGIN:VEVENT
UID:260732@https://www.jesslokaal.nl
DTSTART:20260518T193000
DTEND:20260518T220000
SUMMARY:Raadscafé
DESCRIPTION:<p>De locatie is nog niet bekend</p>
LOCATION:JessLokaal\, Zijperweg 7F\, 1742 NE Schagen
ATTACH;FMTTYPE=image/jpeg:/content/32856/agenda/clnt/011cf645de5b4ff6a653f65f0e48370e.jpg?width=1600&height=1200
SEQUENCE:0
DTSTAMP:20260425T162315
END:VEVENT
END:VCALENDAR
