BEGIN:VCALENDAR
VERSION:2.0
PRODID:-//Ziber2013/
CALSCALE:GREGORIAN
BEGIN:VEVENT
UID:260733@https://www.jesslokaal.nl
DTSTART:20260513T193000
DTEND:20260513T235900
SUMMARY:werksessie  Huisvesting
DESCRIPTION:<p> </p><p>Dit betreft een interne bijeenkomst en het is geen openbare bijeenkomst. Er wordt geïnventariseerd welke behoefte raadsleden en raadsfractie hebben qua huisvesting. Op 18 februari 2026 is de raad geïnformeerd over het strategisch huisvestingsplan: het onderzoek naar het gemeentehuis van nu én van de toekomst. Dit onderzoek geeft inzicht in wat vandaag nodig is om het werk goed te kunnen doen\, en vooral in hoe het gemeentehuis ook op de lange termijn (vijftien jaar en verder) geschikt blijft.</p><p>Door de uitbreiding van het aantal ambtenaren en door het feit dat tijdens het burgerberaad gesproken is om het gemeentehuis open te gooien en de bereikbaarheid te vergroten wordt er door een extern bureau een onderzoek gedaan naar de (on) mogelijkheden binnen het huidige pand om dit te kunnen realiseren als een soort ‘Huis van de democratie’ met geschikte ontmoetingsplaatsen.</p><p>Hiervoor zijn er al diverse werksessies met medewerkers gehouden\, een zogeheten ‘ambitiesessie’. Dit  wordt dus nu gedaan met de raadsleden\, als politiek gebruiker van het gemeentehuis. Samen met het onderzoeksbureau Aestate wordt deze ambitiesessie speciaal voor raadsleden georganiseerd.</p>
LOCATION:JessLokaal\, Zijperweg 7F\, 1742 NE Schagen
ATTACH;FMTTYPE=image/jpeg:/content/32856/agenda/clnt/bdef12a7206d4696a0885fe1841fd944.jpg?width=1600&height=1200
SEQUENCE:0
DTSTAMP:20260425T162312
END:VEVENT
END:VCALENDAR
