BEGIN:VCALENDAR
VERSION:2.0
PRODID:-//Ziber2013/
CALSCALE:GREGORIAN
BEGIN:VEVENT
UID:260734@https://www.jesslokaal.nl
DTSTART:20260511T193000
DTEND:20260511T220000
SUMMARY:Informatieavond Warmte programma
DESCRIPTION:<p>Dit is een beeldvormende vergadering over het warmteprogramma</p>
LOCATION:JessLokaal\, Zijperweg 7F\, 1742 NE Schagen
ATTACH;FMTTYPE=image/jpeg:/content/32856/agenda/clnt/f4283ae18ba94682a3c73938ee5dad89.png?width=1600&height=1200
SEQUENCE:0
DTSTAMP:20260425T162318
END:VEVENT
END:VCALENDAR
