BEGIN:VCALENDAR
VERSION:2.0
PRODID:-//Ziber2013/
CALSCALE:GREGORIAN
BEGIN:VEVENT
UID:260735@https://www.jesslokaal.nl
DTSTART:20260526T193000
DTEND:20260526T220000
SUMMARY:Eventueel Gemeenteraadsvergadering (optie benoemingen eisende zaken)
DESCRIPTION:<p>Wanneer er aanleiding is wordt deze raadsvergadering gepland. </p>
LOCATION:JessLokaal\, Zijperweg 7F\, 1742 NE Schagen
ATTACH;FMTTYPE=image/jpeg:/content/32856/agenda/clnt/f28d6db1e93e476ea67dbc0b14f1f046.jpg?width=1600&height=1200
SEQUENCE:0
DTSTAMP:20260425T175238
END:VEVENT
END:VCALENDAR
