BEGIN:VCALENDAR
VERSION:2.0
PRODID:-//Ziber2013/
CALSCALE:GREGORIAN
BEGIN:VEVENT
UID:260736@https://www.jesslokaal.nl
DTSTART:20260528T160000
DTEND:20260528T210000
SUMMARY:RNN (regionale raadsvergadering NoordKop) 
DESCRIPTION:<p>Tijdens de vergadering van afgevaardigden van de gemeenteraden Den-Helder\, Hollands Kroon\, Schagen en Texel komen bijeen om te praten over de zienswijze begroting en jaarstukken van de gemeenschappelijke regelingen\, Veiligheidsregio\, Omgevingsdienst\, GGD\, Gesubsidieerde Arbeid en het regionaal Archief. </p><p> </p><p>Voor meer info\, zie de website van de gemeente Den-Helder.</p>
LOCATION:JessLokaal\, Zijperweg 7F\, 1742 NE Schagen
SEQUENCE:0
DTSTAMP:20260425T175405
END:VEVENT
END:VCALENDAR
